BEGIN:VCALENDAR
VERSION:2.0
PRODID:-//AudioTheme 2.3.8
BEGIN:VEVENT
UID:https://www.kelleysuttenfield.com/?post_type=audiotheme_gig&#038;p=1694
URL:https://www.kelleysuttenfield.com/shows/7th-annual-van-morrison-tribute/
DTSTART;TZID=GMT:20190315T010000
SUMMARY:7th Annual Van Morrison Tribute
DESCRIPTION:12 amazing singers\, 1 killer house band
LOCATION:LIC Bar\, 45-58 Vernon Boulevard\,  Long Island City\, NY\,  11101 
END:VEVENT
END:VCALENDAR
