BEGIN:VCALENDAR
VERSION:2.0
PRODID:-//AudioTheme 2.3.8
BEGIN:VEVENT
UID:http://ksuttenfield.booyahcreative.com/?post_type=audiotheme_gig&#038;p=350
URL:https://www.kelleysuttenfield.com/shows/among-the-stars-cd-release-concert/
DTSTART;TZID=GMT:20141123T000000
SUMMARY:CD Release Concert for "Among The Stars" 
DESCRIPTION:CD Release Concert for "Among The Stars" 
LOCATION:Gallery MC\, 549 W 52nd St   (between 10th and 11th Aves) \, New York\, NY\, USA\, 10019
END:VEVENT
END:VCALENDAR
