BEGIN:VCALENDAR
VERSION:2.0
PRODID:-//AudioTheme 2.3.8
BEGIN:VEVENT
UID:http://ksuttenfield.booyahcreative.com/?post_type=audiotheme_gig&#038;p=346
URL:https://www.kelleysuttenfield.com/shows/cd-release-date-for-among-the-stars/
DTSTART;TZID=GMT:20140930T040000
SUMMARY:CD release date for "Among The Stars"
DESCRIPTION:CD Release date for "Among The Stars"
LOCATION:Amazon\, iTunes\, CD Baby\, New York\, NY
END:VEVENT
END:VCALENDAR
