BEGIN:VCALENDAR
VERSION:2.0
PRODID:-//AudioTheme 2.3.8
BEGIN:VEVENT
UID:https://www.kelleysuttenfield.com/?post_type=audiotheme_gig&#038;p=1664
URL:https://www.kelleysuttenfield.com/shows/cd-release/
DTSTART;VALUE=DATE:20190913
SUMMARY:New Album Release
DESCRIPTION:New album release
LOCATION:TBA\, New York\, NY
END:VEVENT
END:VCALENDAR
