BEGIN:VCALENDAR
VERSION:2.0
PRODID:-//AudioTheme 2.3.8
BEGIN:VEVENT
UID:https://www.kelleysuttenfield.com/?post_type=audiotheme_gig&#038;p=910
URL:https://www.kelleysuttenfield.com/shows/concert-from-copenhagen/
DTSTART;TZID=GMT:20151206T190000
SUMMARY:Concert from Copenhagen
DESCRIPTION:An intimate house concert live-streamed online  20:00 EU time / 2pm EST / 11am PST
LOCATION:Concert Window - Live Streamed Event\, https://www.concertwindow.com    Specific concert link to come  \, Copenhagen\, Denmark\, Denmark
END:VEVENT
END:VCALENDAR
