BEGIN:VCALENDAR
VERSION:2.0
PRODID:-//AudioTheme 2.3.8
BEGIN:VEVENT
UID:urn:uuid:56abd859-6804-4972-96d5-5ac9d7bdb3a2
URL:https://www.kelleysuttenfield.com/shows/concert-in-the-garden-2/
DTSTART;TZID=GMT:20250912T183000
SUMMARY:Concert in the Garden
DESCRIPTION:Jazz\, pop and bossa classics in the Garden. FREE entry.
LOCATION:The George & Dragon\, 183 High St\, London\, England\, \, United Kingdom\, W3 9DJ
END:VEVENT
END:VCALENDAR
