BEGIN:VCALENDAR
VERSION:2.0
PRODID:-//AudioTheme 2.3.8
BEGIN:VEVENT
UID:https://www.kelleysuttenfield.com/?post_type=audiotheme_gig&#038;p=1139
URL:https://www.kelleysuttenfield.com/shows/everybody-knows-only-love-can-break-your-heart-christine-sings-cohen-kelley-sings-neil/
DTSTART;TZID=GMT:20170107T023000
SUMMARY:Everybody Knows / Only Love Can Break Your Heart: Christine Sings Cohen / Kelley Sings Neil
DESCRIPTION:Double bill with Christine Tobin
LOCATION:Pangea\, 178 2nd Avenue\, New York\, NY\, USA\, 10003
END:VEVENT
END:VCALENDAR
