BEGIN:VCALENDAR
VERSION:2.0
PRODID:-//AudioTheme 2.3.8
BEGIN:VEVENT
UID:urn:uuid:104d7df5-6326-41c2-9446-f64003bb1204
URL:https://www.kelleysuttenfield.com/shows/featured-guest-bootlegger-jam/
DTSTART;TZID=GMT:20260219T200000
SUMMARY:Featured Guest, Bootlegger Jam
LOCATION:The Bootlegger Vault\, 5 Hill St\, Richmond\, London\, England\, \, United Kingdom\, TW9 1SX
END:VEVENT
END:VCALENDAR
