BEGIN:VCALENDAR
VERSION:2.0
PRODID:-//AudioTheme 2.3.8
BEGIN:VEVENT
UID:urn:uuid:1c1188c8-6f08-47d4-be62-f82c6c27cddb
URL:https://www.kelleysuttenfield.com/shows/featured-set-at-se11-sessions/
DTSTART;TZID=GMT:20240928T193000
SUMMARY:Featured Set at SE11 Sessions
DESCRIPTION:Featured Set at SE11 Sessions
LOCATION:The Tea House Theatre\, 139 Vauxhall Walk\, London\, England\, United Kingdom\, SE11 5HL
END:VEVENT
END:VCALENDAR
