BEGIN:VCALENDAR
VERSION:2.0
PRODID:-//AudioTheme 2.3.8
BEGIN:VEVENT
UID:urn:uuid:21949520-710b-434d-a7d9-6cd082dd1e72
URL:https://www.kelleysuttenfield.com/shows/featured-set-with-hanaria-houria-jazz-trio/
DTSTART;TZID=GMT:20240113T200000
SUMMARY:Featured set with Hanaria Houria Jazz Trio
LOCATION:Lenouvô Cosmos\, Dalle des Olympiades / Accès par l'escalator au niveau du\, 105 Rue de Tolbiac\, Paris\, \, France\, 75013
END:VEVENT
END:VCALENDAR
