BEGIN:VCALENDAR
VERSION:2.0
PRODID:-//AudioTheme 2.3.8
BEGIN:VEVENT
UID:https://www.kelleysuttenfield.com/?post_type=audiotheme_gig&#038;p=1296
URL:https://www.kelleysuttenfield.com/shows/featured-vocalist-adam-fisher-quartet/
DTSTART;TZID=GMT:20180301T003000
SUMMARY:With the Adam Fisher Quartet
DESCRIPTION:With the Adam Fisher Trio
LOCATION:Minton's Playhouse\, 206 West 118th Street\, New York\, NY\, United States\, 10026
END:VEVENT
END:VCALENDAR
