BEGIN:VCALENDAR
VERSION:2.0
PRODID:-//AudioTheme 2.3.8
BEGIN:VEVENT
UID:https://www.kelleysuttenfield.com/?post_type=audiotheme_gig&#038;p=903
URL:https://www.kelleysuttenfield.com/shows/featured-vocalist-in-sunday-vocal-jam-series/
DTSTART;TZID=GMT:20151123T013000
SUMMARY:Featured Vocalist in Sunday Vocal Jam Series
DESCRIPTION:Featured Vocalist in Sunday Vocal Jam Series
LOCATION:Rue B\, 188 Avenue B (bet 11th and 12th)\, New York\, NY\, USA\, 10009 
END:VEVENT
END:VCALENDAR
