BEGIN:VCALENDAR
VERSION:2.0
PRODID:-//AudioTheme 2.3.8
BEGIN:VEVENT
UID:urn:uuid:c445d7ba-0e40-43ae-8511-005ddd44421a
URL:https://www.kelleysuttenfield.com/shows/gig-2333/
DTSTART;TZID=GMT:20240216T013000
SUMMARY:The Chiswick Cinema
DESCRIPTION:Private Event
LOCATION:The Chiswick Cinema\, 94-96 Chiswick High Rd.\, Chiswick\, London\, England\, United Kingdom\, W4 1SH
END:VEVENT
END:VCALENDAR
