BEGIN:VCALENDAR
VERSION:2.0
PRODID:-//AudioTheme 2.3.8
BEGIN:VEVENT
UID:urn:uuid:01a00b1e-0bc9-4b6a-9ad5-2ba69f03ea30
URL:https://www.kelleysuttenfield.com/shows/gig-2343/
DTSTART;TZID=GMT:20240510T183000
SUMMARY:Jazz Duo
DESCRIPTION:Tapas and Jazz in an intimate venue. Bookings are recommended. 
LOCATION:Reineta\, Dickens Yard\, Longfield Avenue\, London\, England\, United Kingdom\, W5 2TD
END:VEVENT
END:VCALENDAR
