BEGIN:VCALENDAR
VERSION:2.0
PRODID:-//AudioTheme 2.3.8
BEGIN:VEVENT
UID:https://www.kelleysuttenfield.com/?post_type=audiotheme_gig&#038;p=957
URL:https://www.kelleysuttenfield.com/shows/gig-957/
DTSTART;TZID=GMT:20161123T000000
SUMMARY:My Way: Sinatra, the Later Years
DESCRIPTION:My Way: Sinatra\, the Later Years  Guest of Perez Jazz
LOCATION:Metropolitan Room\, 34 W 22nd Street\, New York\, NY\, USA\, 10010
END:VEVENT
END:VCALENDAR
