BEGIN:VCALENDAR
VERSION:2.0
PRODID:-//AudioTheme 2.3.8
BEGIN:VEVENT
UID:urn:uuid:1945a27f-0ab2-4f1d-8f7f-c106bd1f2ec1
URL:https://www.kelleysuttenfield.com/shows/guest-of-hanaria-houria-jazz-trio/
DTSTART;TZID=GMT:20250201T190000
SUMMARY:Guest of Hanaria Houria Jazz Trio
DESCRIPTION:Guest of Hanaria Houria Jazz Trio
LOCATION:Osmoz Café\, 33 rue de l'Ouest\, Paris\, \, France\, 75014 
END:VEVENT
END:VCALENDAR
