BEGIN:VCALENDAR
VERSION:2.0
PRODID:-//AudioTheme 2.3.8
BEGIN:VEVENT
UID:https://www.kelleysuttenfield.com/?post_type=audiotheme_gig&#038;p=649
URL:https://www.kelleysuttenfield.com/shows/guest-of-the-great-danes-big-band-copenhagen-jazz-festival/
DTSTART;TZID=GMT:20100704T040000
SUMMARY:Guest of the Great Danes Big Band - Copenhagen Jazz Festival
DESCRIPTION:Guest of the Great Danes Big Band - Copenhagen Jazz Festival
LOCATION:Christiania Jazz Club \, Børneteatret\, Christiania\, Copenhagen\, Denmark\, Denmark
END:VEVENT
END:VCALENDAR
