BEGIN:VCALENDAR
VERSION:2.0
PRODID:-//AudioTheme 2.3.8
BEGIN:VEVENT
UID:https://www.kelleysuttenfield.com/?post_type=audiotheme_gig&#038;p=650
URL:https://www.kelleysuttenfield.com/shows/guest-on-the-dennis-bono-show/
DTSTART;TZID=GMT:20100715T180000
SUMMARY:Performance on The Dennis Bono Show
DESCRIPTION:Performance on The Dennis Bono Show
LOCATION:The Dennis Bono Show\, South Point Hotel\, Casino & Spa  9777 Las Vegas Blvd South\, Las Vegas\, NV\, USA\, 89183
END:VEVENT
END:VCALENDAR
