BEGIN:VCALENDAR
VERSION:2.0
PRODID:-//AudioTheme 2.3.8
BEGIN:VEVENT
UID:https://www.kelleysuttenfield.com/?post_type=audiotheme_gig&#038;p=895
URL:https://www.kelleysuttenfield.com/shows/holiday-show-at-jazz-at-kitano/
DTSTART;TZID=GMT:20151225T010000
SUMMARY:Holiday Concert at Jazz at Kitano
DESCRIPTION:"The Night Before Christmas"  A Special Holiday Concert at Kitano
LOCATION:Jazz at Kitano\, 66 Park Avenue\, New York\, NY\, USA\, 10016
END:VEVENT
END:VCALENDAR
