BEGIN:VCALENDAR
VERSION:2.0
PRODID:-//AudioTheme 2.3.8
BEGIN:VEVENT
UID:urn:uuid:33c3675b-a8af-429c-8348-cfdba37e1a66
URL:https://www.kelleysuttenfield.com/shows/jazz-concert-2/
DTSTART;TZID=GMT:20250411T183000
SUMMARY:Jazz concert
DESCRIPTION:Part of the new popular concert series St Mary's Live. Tickets: £10 / £8.50. 
LOCATION:St Mary's Church\, Acton\, 1\, The Mount\, High St\, London\, England\, United Kingdom\, W3 9NW
END:VEVENT
END:VCALENDAR
