BEGIN:VCALENDAR
VERSION:2.0
PRODID:-//AudioTheme 2.3.8
BEGIN:VEVENT
UID:urn:uuid:e42e1107-213a-4a3c-b613-3b7e68721cce
URL:https://www.kelleysuttenfield.com/shows/jazz-concert-3/
DTSTART;TZID=GMT:20250601T160000
SUMMARY:Jazz concert
DESCRIPTION:A Questors Theatre Community Festival event. Tickets: £10 standard / £5 concessions.  To purchase tickets\, visit: <a href="https://www.questors.org.uk/event.aspx?id=1358">https://www.questors.org.uk/event.aspx?id=1358</a>
LOCATION:The Questors Theatre\, 12 Mattock Lane\, London\, England\, United Kingdom\, W5 5BQ
END:VEVENT
END:VCALENDAR
