BEGIN:VCALENDAR
VERSION:2.0
PRODID:-//AudioTheme 2.3.8
BEGIN:VEVENT
UID:urn:uuid:226fa1fb-0f77-4d51-b4b6-d61b9a2c0354
URL:https://www.kelleysuttenfield.com/shows/jazz-concert/
DTSTART;TZID=GMT:20241128T140000
SUMMARY:Jazz concert
DESCRIPTION:Part of the free popular concert series at St Mary's\, this is an in-person and livestreamed event
LOCATION:St Mary's Perivale\, Perivale Ln\, Perivale\, London\, England\, United Kingdom\, UB6 8SS
END:VEVENT
END:VCALENDAR
