BEGIN:VCALENDAR
VERSION:2.0
PRODID:-//AudioTheme 2.3.8
BEGIN:VEVENT
UID:https://www.kelleysuttenfield.com/?post_type=audiotheme_gig&#038;p=588
URL:https://www.kelleysuttenfield.com/shows/jazz-duo-10/
DTSTART;TZID=GMT:20130125T003000
SUMMARY:Jazz Duo
DESCRIPTION:Jazz Duo
LOCATION:Bar Chevere\, 181 Essex Street \, New York\, NY\, USA\, 10002
END:VEVENT
END:VCALENDAR
