BEGIN:VCALENDAR
VERSION:2.0
PRODID:-//AudioTheme 2.3.8
BEGIN:VEVENT
UID:https://www.kelleysuttenfield.com/?post_type=audiotheme_gig&#038;p=769
URL:https://www.kelleysuttenfield.com/shows/jazz-duo-16/
DTSTART;TZID=GMT:20150126T000000
SUMMARY:Jazz Duo
DESCRIPTION:Jazz Duo
LOCATION:Moscow 57\, 168 1/2 Delancey Street  (Bet Clinton & Attorney) \, New York\, NY\, USA\, 10002
END:VEVENT
END:VCALENDAR
