BEGIN:VCALENDAR
VERSION:2.0
PRODID:-//AudioTheme 2.3.8
BEGIN:VEVENT
UID:http://ksuttenfield.booyahcreative.com/?post_type=audiotheme_gig&#038;p=353
URL:https://www.kelleysuttenfield.com/shows/jazz-duo-2/
DTSTART;TZID=GMT:20150802T180000
SUMMARY:Jazz Duo in Concert - Encore CD Release Concert
DESCRIPTION:Jazz Duo in Concert - Encore CD Release Concert
LOCATION:Windsor Art Center\, 40 Mechanic Street\, Windsor\, CT\, USA\, 06095
END:VEVENT
END:VCALENDAR
