BEGIN:VCALENDAR
VERSION:2.0
PRODID:-//AudioTheme 2.3.8
BEGIN:VEVENT
UID:https://www.kelleysuttenfield.com/?post_type=audiotheme_gig&#038;p=881
URL:https://www.kelleysuttenfield.com/shows/jazz-duo-22/
DTSTART;TZID=GMT:20151008T180000
SUMMARY:Jazz Duo
DESCRIPTION:Jazz Duo
LOCATION:Balius Bar\, Pujades\, 196 \, Barcelona\, \, SPAIN\, 08005
END:VEVENT
END:VCALENDAR
