BEGIN:VCALENDAR
VERSION:2.0
PRODID:-//AudioTheme 2.3.8
BEGIN:VEVENT
UID:https://www.kelleysuttenfield.com/?post_type=audiotheme_gig&#038;p=961
URL:https://www.kelleysuttenfield.com/shows/jazz-duo-23/
DTSTART;TZID=GMT:20160613T193000
SUMMARY:Jazz Duo in Concert
DESCRIPTION:Jazz Duo in Concert
LOCATION:The Pheasantry\, 152 Kings Road  Chelsea\, London\, England\, United Kingdom\, SW3 4UT
END:VEVENT
END:VCALENDAR
