BEGIN:VCALENDAR
VERSION:2.0
PRODID:-//AudioTheme 2.3.8
BEGIN:VEVENT
UID:urn:uuid:34899364-a245-484e-ba4e-e2df1c4a25ce
URL:https://www.kelleysuttenfield.com/shows/jazz-duo-24/
DTSTART;TZID=GMT:20241018T183000
SUMMARY:Jazz Duo
DESCRIPTION:Tapas and Jazz in an intimate wine bar venue. Bookings are recommended. 
LOCATION:Reineta\, Dickens Yard\, Longfield Avenue\, London\, England\, United Kingdom\, W5 2TD
END:VEVENT
END:VCALENDAR
