BEGIN:VCALENDAR
VERSION:2.0
PRODID:-//AudioTheme 2.3.8
BEGIN:VEVENT
UID:urn:uuid:ea248d8e-165c-4d7f-a1e4-575456e06b12
URL:https://www.kelleysuttenfield.com/shows/jazz-duo-25/
DTSTART;TZID=GMT:20241206T193000
SUMMARY:Jazz Duo
DESCRIPTION:Tapas and Jazz in an intimate wine bar venue. Bookings are recommended. CANCELLED.
LOCATION:Reineta\, Dickens Yard\, Longfield Avenue\, London\, England\, United Kingdom\, W5 2TD
END:VEVENT
END:VCALENDAR
