BEGIN:VCALENDAR
VERSION:2.0
PRODID:-//AudioTheme 2.3.8
BEGIN:VEVENT
UID:urn:uuid:7a768264-2b00-4f00-8f73-2b2c1d8582f6
URL:https://www.kelleysuttenfield.com/shows/jazz-duo-28/
DTSTART;TZID=GMT:20251029T123000
SUMMARY:Jazz Duo
DESCRIPTION:Part of the Westminster Music Library lunchtime concert series. FREE entry.
LOCATION:Westminster Music Library\, 35 St Martin's Street\, London\, England\, \, United Kingdom\, WC2H 7HP
END:VEVENT
END:VCALENDAR
