BEGIN:VCALENDAR
VERSION:2.0
PRODID:-//AudioTheme 2.3.8
BEGIN:VEVENT
UID:urn:uuid:1e884ba9-1d05-44be-8ca3-804e29c03698
URL:https://www.kelleysuttenfield.com/shows/jazz-duo-33/
DTSTART;TZID=GMT:20260313T200000
SUMMARY:Jazz Duo
DESCRIPTION:Jazz & cocktails. FREE entry.
LOCATION:The George & Dragon\, 183 High St\, London\, England\, \, United Kingdom\, W3 9DJ
END:VEVENT
END:VCALENDAR
