BEGIN:VCALENDAR
VERSION:2.0
PRODID:-//AudioTheme 2.3.8
BEGIN:VEVENT
UID:urn:uuid:92583137-7443-49a2-9733-e72a9b1d1a7f
URL:https://www.kelleysuttenfield.com/shows/jazz-duo-34/
DTSTART;TZID=GMT:20260418T190000
SUMMARY:Jazz Duo
DESCRIPTION:Jazz & cocktails. FREE entry.
LOCATION:The George & Dragon\, 183 High St\, London\, England\, \, United Kingdom\, W3 9DJ
END:VEVENT
END:VCALENDAR
