BEGIN:VCALENDAR
VERSION:2.0
PRODID:-//AudioTheme 2.3.8
BEGIN:VEVENT
UID:https://www.kelleysuttenfield.com/?post_type=audiotheme_gig&#038;p=585
URL:https://www.kelleysuttenfield.com/shows/jazz-duo-8/
DTSTART;TZID=GMT:20130107T000000
SUMMARY:Jazz Duo - EVERY SUNDAY IN 2013
DESCRIPTION:Jazz Duo - EVERY SUNDAY IN 2013
LOCATION:Pierre Loti Chelsea\, 258 West 15th Street\, New York\, NY\, USA\, 10011
END:VEVENT
END:VCALENDAR
