BEGIN:VCALENDAR
VERSION:2.0
PRODID:-//AudioTheme 2.3.8
BEGIN:VEVENT
UID:http://ksuttenfield.booyahcreative.com/?post_type=audiotheme_gig&#038;p=345
URL:https://www.kelleysuttenfield.com/shows/jazz-duo-and-live-radio-performance/
DTSTART;TZID=GMT:20140921T233000
SUMMARY:Jazz Duo and Live Radio Performance
DESCRIPTION:Jazz Duo and Live Radio Performance
LOCATION:Moscow 57\, 168 1/2 Delancey Street  (Bet Clinton & Attorney) \, New York\, NY\, USA\, 10002
END:VEVENT
END:VCALENDAR
