BEGIN:VCALENDAR
VERSION:2.0
PRODID:-//AudioTheme 2.3.8
BEGIN:VEVENT
UID:https://www.kelleysuttenfield.com/?post_type=audiotheme_gig&#038;p=887
URL:https://www.kelleysuttenfield.com/shows/jazz-duo-duets/
DTSTART;TZID=GMT:20150927T230000
SUMMARY:Jazz Duo & Duets
DESCRIPTION:Jazz Duo & Duets - Guest Vocalist in "Mostly Marcus" Series
LOCATION:Bar Thalia at Symphony Space\, 2537 Broadway (at 95th St) \, New York\, NY\, USA\, 10025
END:VEVENT
END:VCALENDAR
