BEGIN:VCALENDAR
VERSION:2.0
PRODID:-//AudioTheme 2.3.8
BEGIN:VEVENT
UID:https://www.kelleysuttenfield.com/?post_type=audiotheme_gig&#038;p=596
URL:https://www.kelleysuttenfield.com/shows/jazz-duo-every-sunday-in-2012/
DTSTART;TZID=GMT:20120318T230000
SUMMARY:Jazz Duo - EVERY SUNDAY IN 2012
DESCRIPTION:Jazz Duo - EVERY SUNDAY IN 2012
LOCATION:Pierre Loti Chelsea\, 258 West 15th Street\, New York\, NY\, USA\, 10011
END:VEVENT
END:VCALENDAR
