BEGIN:VCALENDAR
VERSION:2.0
PRODID:-//AudioTheme 2.3.8
BEGIN:VEVENT
UID:https://www.kelleysuttenfield.com/?post_type=audiotheme_gig&#038;p=656
URL:https://www.kelleysuttenfield.com/shows/jazz-duo-holiday-concert/
DTSTART;TZID=GMT:20101205T190000
SUMMARY:Jazz Duo - Holiday Concert
DESCRIPTION:Jazz Duo - Holiday Concert
LOCATION:Limelight Marketplace\, 656 Avenue of the Americas\, New York\, NY\, USA\, 10011
END:VEVENT
END:VCALENDAR
