BEGIN:VCALENDAR
VERSION:2.0
PRODID:-//AudioTheme 2.3.8
BEGIN:VEVENT
UID:https://www.kelleysuttenfield.com/?post_type=audiotheme_gig&#038;p=915
URL:https://www.kelleysuttenfield.com/shows/jazz-duo-standards-covers-originals/
DTSTART;TZID=GMT:20160105T010000
SUMMARY:Jazz Duo - Standards, covers, originals
DESCRIPTION:Jazz Duo - Standards\, covers\, originals
LOCATION:LIC Bar\, 45-58 Vernon Boulevard\,  Long Island City\, NY\,  11101 
END:VEVENT
END:VCALENDAR
