BEGIN:VCALENDAR
VERSION:2.0
PRODID:-//AudioTheme 2.3.8
BEGIN:VEVENT
UID:https://www.kelleysuttenfield.com/?post_type=audiotheme_gig&#038;p=876
URL:https://www.kelleysuttenfield.com/shows/jazz-duo-with-guillermo-bazzola-g/
DTSTART;TZID=GMT:20151011T193000
SUMMARY:Jazz Duo
DESCRIPTION:Jazz Duo
LOCATION:Rincón Del Arte Nuevo\, Calle Segovia 17 \, Madrid\, \, SPAIN\, 28005
END:VEVENT
END:VCALENDAR
