BEGIN:VCALENDAR
VERSION:2.0
PRODID:-//AudioTheme 2.3.8
BEGIN:VEVENT
UID:http://ksuttenfield.booyahcreative.com/?post_type=audiotheme_gig&#038;p=352
URL:https://www.kelleysuttenfield.com/shows/jazz-duo/
DTSTART;TZID=GMT:20150315T190000
SUMMARY:Jazz Duo in Concert - Encore CD Release Concert
DESCRIPTION:Jazz Duo in Concert - Encore CD Release Concert  
LOCATION:Perez Jazz House Concert\, Brooklyn\, NY\, USA\, 11218
END:VEVENT
END:VCALENDAR
