BEGIN:VCALENDAR
VERSION:2.0
PRODID:-//AudioTheme 2.3.8
BEGIN:VEVENT
UID:urn:uuid:3f73d750-bcc0-4fa5-85d9-c5df3445a995
URL:https://www.kelleysuttenfield.com/shows/jazz-folk-rock-quartet/
DTSTART;TZID=GMT:20260227T193000
SUMMARY:Jazz/folk/rock Quartet
DESCRIPTION:SOLD OUT!
LOCATION:The Hanwell Cavern\, Westcott Cres\, London\, England\, \, United Kingdom\, W7 1PD
END:VEVENT
END:VCALENDAR
