BEGIN:VCALENDAR
VERSION:2.0
PRODID:-//AudioTheme 2.3.8
BEGIN:VEVENT
UID:urn:uuid:3ca98a34-2c11-475b-9ff1-259f28e79bd0
URL:https://www.kelleysuttenfield.com/shows/jazz-goes-to-the-cinema/
DTSTART;TZID=GMT:20240407T000000
SUMMARY:Jazz Goes to the Cinema [SOLD OUT!]
DESCRIPTION:Jazz Goes to the Cinema -- A multimedia event held in the theatre of ActOne Cinema.
LOCATION:ActOne Cinema\, 119 - 121 High Street\, London\, England\, W3 6NA
END:VEVENT
END:VCALENDAR
