BEGIN:VCALENDAR
VERSION:2.0
PRODID:-//AudioTheme 2.3.8
BEGIN:VEVENT
UID:urn:uuid:6167d92c-6a3d-44f6-880c-719dacdc3eb1
URL:https://www.kelleysuttenfield.com/shows/jazz-night-at-auriens-chelsea/
DTSTART;TZID=GMT:20250730T180000
SUMMARY:Jazz Night at Auriens Chelsea
DESCRIPTION:Members-only event. Tickets: £45 for residents\, £60 for FOA members.
LOCATION:Auriens Chelsea\, 2 Dovehouse Street\, London\, England\, United Kingdom\, SW3 6B
END:VEVENT
END:VCALENDAR
