BEGIN:VCALENDAR
VERSION:2.0
PRODID:-//AudioTheme 2.3.8
BEGIN:VEVENT
UID:urn:uuid:1a072c3b-69da-46f2-9a00-0c765c7897df
URL:https://www.kelleysuttenfield.com/shows/jazz-nite-at-pangea-2/
DTSTART;TZID=GMT:20241030T230000
SUMMARY:"Jazz Nite" at Pangea
DESCRIPTION:"Jazz Nite" at this iconic East Village institution. Ticket purchase recommended.
LOCATION:Pangea\, 178 2nd Avenue\, New York\, NY\, USA\, 10003
END:VEVENT
END:VCALENDAR
