BEGIN:VCALENDAR
VERSION:2.0
PRODID:-//AudioTheme 2.3.8
BEGIN:VEVENT
UID:https://www.kelleysuttenfield.com/?post_type=audiotheme_gig&#038;p=2277
URL:https://www.kelleysuttenfield.com/shows/jazz-nite-at-pangea/
DTSTART;TZID=GMT:20230906T230000
SUMMARY:Jazz Nite at Pangea
LOCATION:Pangea\, 178 2nd Avenue\, New York\, NY\, USA\, 10003
END:VEVENT
END:VCALENDAR
