BEGIN:VCALENDAR
VERSION:2.0
PRODID:-//AudioTheme 2.3.8
BEGIN:VEVENT
UID:https://www.kelleysuttenfield.com/?post_type=audiotheme_gig&#038;p=1466
URL:https://www.kelleysuttenfield.com/shows/jazz-on-the-deck-summer-concert-series-2/
DTSTART;TZID=GMT:20180725T220000
SUMMARY:"Jazz on the Deck" Summer Concert Series
DESCRIPTION:"Jazz on the Deck" Summer Concert Series
LOCATION:The Settlers Inn\, 4 Main Avenue\, Hawley\, PA \, USA\, 18428
END:VEVENT
END:VCALENDAR
