BEGIN:VCALENDAR
VERSION:2.0
PRODID:-//AudioTheme 2.3.8
BEGIN:VEVENT
UID:https://www.kelleysuttenfield.com/?post_type=audiotheme_gig&#038;p=644
URL:https://www.kelleysuttenfield.com/shows/jazz-quartet-2/
DTSTART;TZID=GMT:20100702T013000
SUMMARY:Jazz Quartet
DESCRIPTION:Jazz Quartet
LOCATION:Tango & Vinos\, Herluf Trolles Gade 9\, Copenhagen\, Denmark\, Denmark\, 1052 København K
END:VEVENT
END:VCALENDAR
