BEGIN:VCALENDAR
VERSION:2.0
PRODID:-//AudioTheme 2.3.8
BEGIN:VEVENT
UID:https://www.kelleysuttenfield.com/?post_type=audiotheme_gig&#038;p=2263
URL:https://www.kelleysuttenfield.com/shows/jazz-quartet-3/
DTSTART;TZID=GMT:20230506T183000
SUMMARY:Jazz Quartet
LOCATION:The Hammersmith Ram\, 81 King St\, London\, England\, United Kingdom\, W6 9HW
END:VEVENT
END:VCALENDAR
