BEGIN:VCALENDAR
VERSION:2.0
PRODID:-//AudioTheme 2.3.8
BEGIN:VEVENT
UID:https://www.kelleysuttenfield.com/?post_type=audiotheme_gig&#038;p=643
URL:https://www.kelleysuttenfield.com/shows/jazz-quartet/
DTSTART;TZID=GMT:20100701T023000
SUMMARY:Jazz Quartet
DESCRIPTION:Jazz Quartet
LOCATION:Christiania Jazz Club \, Børneteatret\, Christiania\, Copenhagen\, Denmark\, Denmark
END:VEVENT
END:VCALENDAR
