BEGIN:VCALENDAR
VERSION:2.0
PRODID:-//AudioTheme 2.3.8
BEGIN:VEVENT
UID:https://www.kelleysuttenfield.com/?post_type=audiotheme_gig&#038;p=2264
URL:https://www.kelleysuttenfield.com/shows/jazz-quintet-2/
DTSTART;TZID=GMT:20230527T183000
SUMMARY:Jazz Quintet
LOCATION:Lass O'Richmond Hill\, 8 Queen's Rd\, London\, England\, United Kingdom\, TW10 6JJ
END:VEVENT
END:VCALENDAR
